BEGIN:VCALENDAR
VERSION:2.0
PRODID:-//St. Cornelius und Peter//NONSGML kigkonsult.se iCalcreator 2.41.92//
CALSCALE:GREGORIAN
METHOD:PUBLISH
UID:66633130-6137-4862-b863-356335346135
X-WR-CALNAME:iCagenda
X-WR-CALDESC:Event Management Extension for Joomla!
X-WR-RELCALID:3E26604A-50F4-4449-8B3E-E4F4932D05B5
X-WR-TIMEZONE:Europe/Berlin
BEGIN:VTIMEZONE
TZID:Europe/Berlin
TZUNTIL:20271031T010000Z
BEGIN:STANDARD
TZNAME:CET
DTSTART:20251026T030000
TZOFFSETFROM:+0200
TZOFFSETTO:+0100
RDATE:20261025T030000
END:STANDARD
BEGIN:DAYLIGHT
TZNAME:CEST
DTSTART:20260329T020000
TZOFFSETFROM:+0100
TZOFFSETTO:+0200
RDATE:20270328T020000
END:DAYLIGHT
END:VTIMEZONE
BEGIN:VEVENT
UID:61623739-3035-4930-b330-363238303331
DTSTAMP:20260420T171035Z
CATEGORIES:Angebote
CLASS:PUBLIC
DESCRIPTION:
DTSTART:20260426T073000Z
DTEND:20260426T073000Z
GEO:00;0
LOCATION:St. Peter\, An St. Peter 13\, 41751 Viersen
ORGANIZER:
SEQUENCE:1
SUMMARY:Erstkommunionfeier
TRANSP:OPAQUE
URL:https://st-cornelius-und-peter.de/termine/veranstaltungen/240-erstkommu
 nionfeier-4/2026-04-26-09-30?layout=vcal
END:VEVENT
END:VCALENDAR
