BEGIN:VCALENDAR
VERSION:2.0
PRODID:-//St. Cornelius und Peter//NONSGML kigkonsult.se iCalcreator 2.41.92//
CALSCALE:GREGORIAN
METHOD:PUBLISH
UID:37373637-6565-4266-b337-353139653965
X-WR-CALNAME:iCagenda
X-WR-CALDESC:Event Management Extension for Joomla!
X-WR-RELCALID:3E26604A-50F4-4449-8B3E-E4F4932D05B5
X-WR-TIMEZONE:Europe/Berlin
BEGIN:VTIMEZONE
TZID:Europe/Berlin
TZUNTIL:20261025T010000Z
BEGIN:STANDARD
TZNAME:CET
DTSTART:20231029T030000
TZOFFSETFROM:+0200
TZOFFSETTO:+0100
RDATE:20241027T030000
RDATE:20251026T030000
END:STANDARD
BEGIN:DAYLIGHT
TZNAME:CEST
DTSTART:20240331T020000
TZOFFSETFROM:+0100
TZOFFSETTO:+0200
RDATE:20250330T020000
RDATE:20260329T020000
END:DAYLIGHT
END:VTIMEZONE
BEGIN:VEVENT
UID:30663066-3764-4362-b363-386431336233
DTSTAMP:20260420T173032Z
CATEGORIES:Musik
CLASS:PUBLIC
DESCRIPTION;ALTREP="CID:<FFFF__=0ABBE548DFE235B58f9e8a93d@coffeebean.com>":
 Giovanni Solinas erläutert die Orgel in St. Cornelius. Dauer etwa 30 Minut
 en.\nPro Führung stehen maximal 30 Plätze zur Verfügung. Eine Reservierung
 skarte ist erforderlich. Der Eintritt ist frei. Um eine Spende für die Kir
 chenmusik wird gebeten. Reservierung unter:\nwww.kirchenmusik-st-cornelius
 .deTelefon: 2162 55409\, 02162 3653692
DTSTART:20241006T130000Z
DTEND:20241006T130000Z
GEO:00;0
LOCATION:Kirche St. Cornelius\, Alter Markt 1\, 41751 Viersen
ORGANIZER:
SEQUENCE:1
SUMMARY:Orgelführung
TRANSP:OPAQUE
URL:https://st-cornelius-und-peter.de/termine/veranstaltungen/104-orgelfueh
 rung-2/2024-10-06-15-00?layout=vcal
END:VEVENT
END:VCALENDAR
