BEGIN:VCALENDAR
VERSION:2.0
PRODID:-//St. Cornelius und Peter//NONSGML kigkonsult.se iCalcreator 2.41.92//
CALSCALE:GREGORIAN
METHOD:PUBLISH
UID:35313261-6338-4738-a135-666663383631
X-WR-CALNAME:iCagenda
X-WR-CALDESC:Event Management Extension for Joomla!
X-WR-RELCALID:3E26604A-50F4-4449-8B3E-E4F4932D05B5
X-WR-TIMEZONE:Europe/Berlin
BEGIN:VTIMEZONE
TZID:Europe/Berlin
TZUNTIL:20251026T010000Z
BEGIN:STANDARD
TZNAME:CET
DTSTART:20231029T030000
TZOFFSETFROM:+0200
TZOFFSETTO:+0100
RDATE:20241027T030000
END:STANDARD
BEGIN:DAYLIGHT
TZNAME:CEST
DTSTART:20230326T020000
TZOFFSETFROM:+0100
TZOFFSETTO:+0200
RDATE:20240331T020000
RDATE:20250330T020000
END:DAYLIGHT
END:VTIMEZONE
BEGIN:VEVENT
UID:32393665-3430-4164-a138-623335346465
DTSTAMP:20260420T173033Z
CATEGORIES:Angebote
CLASS:PUBLIC
DESCRIPTION;ALTREP="CID:<FFFF__=0ABBE548DFE235B58f9e8a93d@coffeebean.com>":
 Das Theresienheim lädt zum Bingospielen in der Theresien Tagespflege ein. 
 Dazu gibt es frische Häppchen. Kommen Sie einfach vorbei.
DTSTART:20240213T153000Z
DTEND:20240213T173000Z
GEO:00;0
LOCATION:Theresienheim\, Theresienstraße 3\, 41751 Viersen
ORGANIZER:
SEQUENCE:1
SUMMARY:Bingospielen
TRANSP:OPAQUE
URL:https://st-cornelius-und-peter.de/termine/veranstaltungen/1-bingospiele
 n/2024-02-13-16-30?layout=vcal
END:VEVENT
END:VCALENDAR
